BEGIN:VCALENDAR
VERSION:2.0
PRODID:-//Squarespace Inc/Squarespace 6//v6//EN
BEGIN:VEVENT
UID:51c4c412e4b0e3594ecbb2c1@squarespace.com
DTSTAMP:20130401T191026Z
DTSTART:20130415T193000Z
DTEND:20130415T203000Z
SUMMARY:Event One
GEO:44.626715;-72.26259
LOCATION:The Adirondacks\, Long Lake\, VT
END:VEVENT
END:VCALENDAR
